BEGIN:VCALENDAR
VERSION:2.0
PRODID:-//hacksw/handcal//NONSGML v1.0//EN
BEGIN:VEVENT
UID:f8f21dd213167b7a87198cd81a2d1ec6
DTSTAMP:20260425T021844Z

DTSTART:20180502T150000
DTEND:20180502T150000
SUMMARY:test events
DESCRIPTION: Determines if tasks should be enabled for this event

X-ALT-DESC;FMTTYPE=text/html:<!DOCTYPE HTML PUBLIC "-//W3C//DTD HTML 3.2//EN">\n<HTML>\n<HEAD>\n<META NAME="Generator" CONTENT="MS Exchange Server version 08.00.0681.000">\n<TITLE></TITLE>\n</HEAD>\n<BODY>\n<!-- Converted from text/rtf format -->\n\n Determines if tasks should be enabled for this event\n\n</BODY>\n</HTML>

LOCATION:
END:VEVENT

END:VCALENDAR
